BEGIN:VCALENDAR
VERSION:2.0
PRODID:-//Rod Mladi Bori Ajdovščina - ECPv6.7.1//NONSGML v1.0//EN
CALSCALE:GREGORIAN
METHOD:PUBLISH
X-WR-CALNAME:Rod Mladi Bori Ajdovščina
X-ORIGINAL-URL:https://mladibori.si
X-WR-CALDESC:Dogodki za Rod Mladi Bori Ajdovščina
REFRESH-INTERVAL;VALUE=DURATION:PT1H
X-Robots-Tag:noindex
X-PUBLISHED-TTL:PT1H
BEGIN:VTIMEZONE
TZID:Europe/Ljubljana
BEGIN:DAYLIGHT
TZOFFSETFROM:+0100
TZOFFSETTO:+0200
TZNAME:CEST
DTSTART:20230326T010000
END:DAYLIGHT
BEGIN:STANDARD
TZOFFSETFROM:+0200
TZOFFSETTO:+0100
TZNAME:CET
DTSTART:20231029T010000
END:STANDARD
END:VTIMEZONE
BEGIN:VEVENT
DTSTART;TZID=Europe/Ljubljana:20231015T083000
DTEND;TZID=Europe/Ljubljana:20231015T150000
DTSTAMP:20260425T014954
CREATED:20230928T072538Z
LAST-MODIFIED:20230928T075236Z
UID:4723-1697358600-1697382000@mladibori.si
SUMMARY:MČ Rodov izlet - Piran
DESCRIPTION:Podmorski svet Severnega Jadrana je edinstven naravni habitat\, saj v njem prebiva več kot 140  različnih vrst organizmov. Ker smo taborniki ljubitelji narave\, živali je pomembno\, da spoznamo čimvečje število raznovrstnih živalskih vrst ter njihovih habitatov. Letošnji\, tradicionalni\, rodov izlet bo posvečen prav spoznavanju morskih živali ter bogate obmorske kulture. Z našimi najmlajšimi se bomo v nedeljo\, 15. 10. 2023 odpravili v Piran\, kjer si bomo ogledali tamkajšnji akvarij ter park Simonov zaliv. \n\n\n\nOdhod na slovensko obalo bo v nedeljo ob 8.30 h izpred avtobusne postaje v Ajdovščini (bodite točni). Na isto mesto se bomo predvideno vrnili okrog 15h. \n\n\n\nV Piranu se bomo zadržali več ur\, zato imejte s seboj malico ter primerna oblačila in obutev. \n\n\n\nCena akcije znaša 10€\, denar prinesite s seboj na avtobusno postajo. \n\n\n\nPrijave za rodov izlet bodo odprte do 7. 10. 2023. Spletno prijavnico izpolnite vsi tisti\, ki do 28. 9. 2023 še niste izpolnili elektronskega vpisnega lista oziroma vsi tisti\, ki otroka še niste vpisali k tabornikom. Če pa ste otroka do 28. 9. 2023 prijavili v našo bazo podatkov\, potem ste e-pošto za prijavo na rodov izlet že prejeli. \n\n\n\nTaborniški pozdrav!Vaši vodniki
URL:https://mladibori.si/event/mc-rodov-izlet-piran/
CATEGORIES:Medvedki in čebelice
ATTACH;FMTTYPE=image/jpeg:https://mladibori.si/wp-content/uploads/2023/09/4aadxusnufq.jpg
END:VEVENT
BEGIN:VEVENT
DTSTART;TZID=Europe/Ljubljana:20231015T103000
DTEND;TZID=Europe/Ljubljana:20231015T140000
DTSTAMP:20260425T014954
CREATED:20230928T073018Z
LAST-MODIFIED:20230928T075152Z
UID:4725-1697365800-1697378400@mladibori.si
SUMMARY:GG Rodov izlet - Soča fun park
DESCRIPTION:Si želiš izkusiti edinstveno adrenalinsko izkušnjo? Pridi z nami na rodov izlet! \n\n\n\nLetos se bomo GG-ji odpravili v Solkan\, kjer bomo v Soča fun parku doživeli nepozabno dogodivščino ob reki Soči. Izlet bo potekal v nedeljo\, 15. 10. 2023 od 10.30h dalje. Zaključek akcije je predviden okrog 14h ure. \n\n\n\nAkcija je brezplačna! \n\n\n\nNaprošamo\, da GG-je do 10.30h pripeljete na naslednjo lokacijo: Pot na Breg 55\, 5250 Solkan. \n\n\n\nObvezna je primerna oprema; obutev in oblačila. V adrenalinskem parku se bomo zadržali več časa\, zato imejte s seboj malico. \n\n\n\nPrijave za rodov izlet bodo odprte do 7. 10. 2023. Spletno prijavnico izpolnite vsi tisti\, ki do 28. 9. 2023 še niste izpolnili elektronskega vpisnega lista oziroma vsi tisti\, ki otroka še niste vpisali k tabornikom. Če pa ste otroka do 28. 9. 2023 prijavili v našo bazo podatkov\, potem ste e-pošto za prijavo na rodov izlet že prejeli. \n\n\n\nTaborniški pozdrav!Vaši vodniki.
URL:https://mladibori.si/event/gg-rodov-izlet-soca-fun-park/
CATEGORIES:Gozdovniki in gozdovnice
ATTACH;FMTTYPE=image/jpeg:https://mladibori.si/wp-content/uploads/2023/09/gigblqe5oew.jpg
END:VEVENT
END:VCALENDAR