BEGIN:VCALENDAR
VERSION:2.0
PRODID:-//Rod Mladi Bori Ajdovščina - ECPv6.7.1//NONSGML v1.0//EN
CALSCALE:GREGORIAN
METHOD:PUBLISH
X-ORIGINAL-URL:https://mladibori.si
X-WR-CALDESC:Dogodki za Rod Mladi Bori Ajdovščina
REFRESH-INTERVAL;VALUE=DURATION:PT1H
X-Robots-Tag:noindex
X-PUBLISHED-TTL:PT1H
BEGIN:VTIMEZONE
TZID:Europe/Ljubljana
BEGIN:DAYLIGHT
TZOFFSETFROM:+0100
TZOFFSETTO:+0200
TZNAME:CEST
DTSTART:20230326T010000
END:DAYLIGHT
BEGIN:STANDARD
TZOFFSETFROM:+0200
TZOFFSETTO:+0100
TZNAME:CET
DTSTART:20231029T010000
END:STANDARD
END:VTIMEZONE
BEGIN:VEVENT
DTSTART;TZID=Europe/Ljubljana:20231027T160000
DTEND;TZID=Europe/Ljubljana:20231029T113000
DTSTAMP:20260425T015044
CREATED:20231008T163206Z
LAST-MODIFIED:20231017T091623Z
UID:4794-1698422400-1698579000@mladibori.si
SUMMARY:GG jesenovanje
DESCRIPTION:Dragi GG-ji! \n\n\n\nHitro se nam bližajo krompirjeve počitnice in s tem tudi GG-jesenovanje na Kovku. To bo potekalo od petka\, 27. 10. 2023 do nedelje\, 29. 10. 2023. \n\n\n\nStarši lahko svojega otroka na akcijo pripeljete v petek med 16h in 18h uro. Po zaključku jesenovanja pa se bomo\, v primeru lepega vremena\, v dolino odpravili peš\, zatorej je pomembno\, da imajo vse potrebno spakirano v pohodnem nahrbtniku. \n\n\n\nS seboj naj imajo: \n\n\n\n\ntopla oblačila\n\n\n\nspalno vrečo\n\n\n\npohodne čevlje/ močnejše telovadne\n\n\n\npohodniški nahrbtnik (zaradi vračanja v dolino)\n\n\n\ntoaleto (zobna ščetka\, zobna pasta\,…)\n\n\n\nlučko\n\n\n\ncopate za po koči\n\n\n\nrutko\n\n\n\nveliko dobre volje 🙂\n\n\n\n\nCena jesenovanja je 15€. V primeru\, da otrok\, ki je na akcijo prijavljen na le-to ne pride\, bo potrebno plačati celoten znesek jesenovanja. \n\n\n\nPrijave na jesenovanje so odprte do 25. 10. 2023.                                                \n\n\n\nTaborniški pozdrav! \n\n\n\n                        
URL:https://mladibori.si/event/gg-jesenovanje/
CATEGORIES:Gozdovniki in gozdovnice
ATTACH;FMTTYPE=image/jpeg:https://mladibori.si/wp-content/uploads/2023/10/david-menidrey-MYRG0ptGh50-unsplash-scaled.jpg
END:VEVENT
END:VCALENDAR