BEGIN:VCALENDAR
VERSION:2.0
PRODID:-//Rod Mladi Bori Ajdovščina - ECPv6.7.1//NONSGML v1.0//EN
CALSCALE:GREGORIAN
METHOD:PUBLISH
X-WR-CALNAME:Rod Mladi Bori Ajdovščina
X-ORIGINAL-URL:https://mladibori.si
X-WR-CALDESC:Dogodki za Rod Mladi Bori Ajdovščina
REFRESH-INTERVAL;VALUE=DURATION:PT1H
X-Robots-Tag:noindex
X-PUBLISHED-TTL:PT1H
BEGIN:VTIMEZONE
TZID:Europe/Ljubljana
BEGIN:DAYLIGHT
TZOFFSETFROM:+0100
TZOFFSETTO:+0200
TZNAME:CEST
DTSTART:20240331T010000
END:DAYLIGHT
BEGIN:STANDARD
TZOFFSETFROM:+0200
TZOFFSETTO:+0100
TZNAME:CET
DTSTART:20241027T010000
END:STANDARD
END:VTIMEZONE
BEGIN:VEVENT
DTSTART;TZID=Europe/Ljubljana:20241029T170000
DTEND;TZID=Europe/Ljubljana:20241031T100000
DTSTAMP:20260422T081915
CREATED:20241012T101230Z
LAST-MODIFIED:20241012T104405Z
UID:5251-1730221200-1730368800@mladibori.si
SUMMARY:MČ jesenovanje
DESCRIPTION:Pozdravljeni! \n\n\n\nLeto je ponovno naokrog in bliža se čas jesenovanja. Letošnje jesenovanje bo potekalo od torka 29.10.2024 do četrtka 31.10.2024 v naši taborniški koči Praprot na Kovku. \n\n\n\nZbirali se bomo v torek pri koči Praport na Kovku med 17:00 in 18:00. Jesenovanje se bo zaključilo v četrtek med 9:00 in 10:00 (starši pripeljete ter pridete iskat svoje otroke). \n\n\n\nZa lažje pakiranje prilagamo seznam obvezne opreme: \n\n\n\n\nSpalna vreča\n\n\n\nCopati za po koči\n\n\n\nTaborniška rutka\n\n\n\nTopla oblačila\n\n\n\nNogavice\n\n\n\nSpodnje perilo\n\n\n\nPribor za osebno higieno (brisača\, zobna ščetka in zobna pasta)\n\n\n\nPohodniški čevlji\n\n\n\nBaterijska svetilka\n\n\n\n\nPrijave bodo potekale preko spletnega sistema za prijave do 22.10.2024. \n\n\n\nCena jesenovanja je 15€\, denar pa se zbira pri koči ob prihodu. \n\n\n\nVodniki se že veselimo skupnega jesenovanja in obljubljamo\, da zabave ne bo manjkalo!Taborniški pozdrav!
URL:https://mladibori.si/event/mc-jesenovanje-2024/
LOCATION:Taborniška koča Praprot\, Kovk\, Kovk 13\, Col\, Slovenija
ATTACH;FMTTYPE=image/jpeg:https://mladibori.si/wp-content/uploads/2024/10/pf1ug8ystty-1.jpg
END:VEVENT
END:VCALENDAR