BEGIN:VCALENDAR
VERSION:2.0
PRODID:-//Rod Mladi Bori Ajdovščina - ECPv6.7.1//NONSGML v1.0//EN
CALSCALE:GREGORIAN
METHOD:PUBLISH
X-WR-CALNAME:Rod Mladi Bori Ajdovščina
X-ORIGINAL-URL:https://mladibori.si
X-WR-CALDESC:Dogodki za Rod Mladi Bori Ajdovščina
REFRESH-INTERVAL;VALUE=DURATION:PT1H
X-Robots-Tag:noindex
X-PUBLISHED-TTL:PT1H
BEGIN:VTIMEZONE
TZID:Europe/Ljubljana
BEGIN:DAYLIGHT
TZOFFSETFROM:+0100
TZOFFSETTO:+0200
TZNAME:CEST
DTSTART:20250330T010000
END:DAYLIGHT
BEGIN:STANDARD
TZOFFSETFROM:+0200
TZOFFSETTO:+0100
TZNAME:CET
DTSTART:20251026T010000
END:STANDARD
END:VTIMEZONE
BEGIN:VEVENT
DTSTART;TZID=Europe/Ljubljana:20250221T170000
DTEND;TZID=Europe/Ljubljana:20250223T100000
DTSTAMP:20260422T034105
CREATED:20250203T063116Z
LAST-MODIFIED:20250203T063120Z
UID:5387-1740157200-1740304800@mladibori.si
SUMMARY:MČ zimovanje
DESCRIPTION:Težko pričakovane zimske počitnice so pred vrati. \n\n\n\nPriprave na Mč zimovanje so v polnem teku. Letošnje zimovanje bo še posebej zanimivo\, saj se nam bodo pridružili tudi ljubljanski taborniki iz rodu Samorastniki.  Potekalo bo od petka\, 21. 2. do nedelje\, 23. 2. 2025 v naši taborniški koči Praprot na Kovku. Prihod v petek bo od 17h do 18h\, odhod v nedeljo pa od 9h do 10h. Prevoz do Kovka in nazaj v Ajdovščino si zagotovite sami\, priporočamo\, da se skupaj z ostalimi starši dogovorite za skupen prevoz.  \n\n\n\nPrijave so odprte do nedelje 16. 2. 2025.  \n\n\n\nCena zimovanja pa znaša 15€. \n\n\n\nS seboj imej: \n\n\n\n\ntaborniško rutko;\n\n\n\nspalko;\n\n\n\npotrebščine za osebno higieno (zobna ščetka\, zobna pasta…);\n\n\n\nspodnje perilo;\n\n\n\n4 debelješe nogavice;\n\n\n\n3 debelejše majice(hoodie\, jopice\,…);\n\n\n\n3 debelješe hlače;\n\n\n\ndebelješo bundo;\n\n\n\nkapo;\n\n\n\nšal;\n\n\n\nrokavice/smučarske rokavice;\n\n\n\npohodni čevlji;\n\n\n\nkombinezon/ smučarske hlače(v primeru snega). \n\n\n\n\nMi se že veselimo našega druženja! \n\n\n\nTaborniški pozdrav!MČ vodniki
URL:https://mladibori.si/event/mc-zimovanje/
CATEGORIES:Medvedki in čebelice
ATTACH;FMTTYPE=image/jpeg:https://mladibori.si/wp-content/uploads/2025/02/serene-winter-forest-road-lined-with-snow-blanketed-trees-evoking-peaceful-solitude-in-nature.-95784-scaled.jpg
END:VEVENT
END:VCALENDAR