BEGIN:VCALENDAR
VERSION:2.0
PRODID:-//Rod Mladi Bori Ajdovščina - ECPv6.7.1//NONSGML v1.0//EN
CALSCALE:GREGORIAN
METHOD:PUBLISH
X-WR-CALNAME:Rod Mladi Bori Ajdovščina
X-ORIGINAL-URL:https://mladibori.si
X-WR-CALDESC:Dogodki za Rod Mladi Bori Ajdovščina
REFRESH-INTERVAL;VALUE=DURATION:PT1H
X-Robots-Tag:noindex
X-PUBLISHED-TTL:PT1H
BEGIN:VTIMEZONE
TZID:Europe/Ljubljana
BEGIN:DAYLIGHT
TZOFFSETFROM:+0100
TZOFFSETTO:+0200
TZNAME:CEST
DTSTART:20250330T010000
END:DAYLIGHT
BEGIN:STANDARD
TZOFFSETFROM:+0200
TZOFFSETTO:+0100
TZNAME:CET
DTSTART:20251026T010000
END:STANDARD
END:VTIMEZONE
BEGIN:VEVENT
DTSTART;TZID=Europe/Ljubljana:20251107T170000
DTEND;TZID=Europe/Ljubljana:20251107T190000
DTSTAMP:20260421T132358
CREATED:20251104T100019Z
LAST-MODIFIED:20251104T100043Z
UID:5577-1762534800-1762542000@mladibori.si
SUMMARY:Plačilo članarine za taborniško leto 2025/2026
DESCRIPTION:Sporočamo Vam\, da bo letošnje pobiranje članarine potekalo v petek\, 7. 11. 2025\, med 17. in 19. uro in v petek\, 21. 11. 2025\, med 17. in 19. uro v naših prostorih v Palah. \n\n\n\nCena članarine znaša 50 €. V primeru\, da imate pri tabornikih več članov\, slednja znaša 40 € na posameznika. Poleg članarine bomo zbirali tudi soglasja o zbiranju osebnih podatkov.
URL:https://mladibori.si/event/placilo-clanarine/
ATTACH;FMTTYPE=image/jpeg:https://mladibori.si/wp-content/uploads/2025/11/detailed-close-up-of-a-calendar-displaying-months-in-several-languages.-273153-scaled.jpg
END:VEVENT
END:VCALENDAR