BEGIN:VCALENDAR
VERSION:2.0
PRODID:-//Rod Mladi Bori Ajdovščina - ECPv6.7.1//NONSGML v1.0//EN
CALSCALE:GREGORIAN
METHOD:PUBLISH
X-WR-CALNAME:Rod Mladi Bori Ajdovščina
X-ORIGINAL-URL:https://mladibori.si
X-WR-CALDESC:Dogodki za Rod Mladi Bori Ajdovščina
REFRESH-INTERVAL;VALUE=DURATION:PT1H
X-Robots-Tag:noindex
X-PUBLISHED-TTL:PT1H
BEGIN:VTIMEZONE
TZID:Europe/Ljubljana
BEGIN:DAYLIGHT
TZOFFSETFROM:+0100
TZOFFSETTO:+0200
TZNAME:CEST
DTSTART:20260329T010000
END:DAYLIGHT
BEGIN:STANDARD
TZOFFSETFROM:+0200
TZOFFSETTO:+0100
TZNAME:CET
DTSTART:20261025T010000
END:STANDARD
END:VTIMEZONE
BEGIN:VEVENT
DTSTART;TZID=Europe/Ljubljana:20260123T160000
DTEND;TZID=Europe/Ljubljana:20260125T100000
DTSTAMP:20260421T162945
CREATED:20260107T160514Z
LAST-MODIFIED:20260107T171727Z
UID:5635-1769184000-1769335200@mladibori.si
SUMMARY:MČ Zimovanje 2026
DESCRIPTION:Pozdravljeni MČ-ji!Upamo\, da že veselo čakate na začetek letošnjega zimovanja. Zimovanje bo potekalo od petka\, 23. 1.\, do nedelje\, 25. 1. 2026 v taborniški koči Praprot na Kovku.Organiziranega prevoza do taborniške koče ni\, zato starše prosimo da se med seboj dogovorite\, za čim bolj učinkovit prevoz. Starši otroke pripeljete v petek med 16.00 in 17.00\, iskat pa jih lahko pridete v nedeljo med 9.00 in 10.00. \n\n\n\nSeznam opreme:Prosimo da imajo otroci s seboj navedeno opremo: – Spalno vrečo – Copate za po koči– Taborniško rutko– Kapo\, rokavice\, šal– Kombinezon ali smučarske hlače– Topla oblačila– Nogavice– Spodnje perilo– Pribor za osebno higieno ( brisača\, zobna ščetka in zobna pasta)– Pohodniške čevlje za po snegu– Telovadne copate – Baterijsko svetilko \n\n\n\nOtroka lahko prijavite preko obrazca spodaj. Rok za prijavo je do 19. 1. 2026.Cena zimovanja bo 15 €\, denar se zbira v koči ob prihodu.Za dodatne informacije sem vam na voljo Tristan Vrtovec (030 373 409).Z vodniki smo vam pripravili zanimiv in zabaven program\, zato si želimo čim večje udeležbe.Taborniški pozdrav
URL:https://mladibori.si/event/mc-zimovanje26-2/
ATTACH;FMTTYPE=image/jpeg:https://mladibori.si/wp-content/uploads/2026/01/close-up-of-frost-covered-branches-in-a-serene-winter-landscape.-997567-scaled.jpg
END:VEVENT
END:VCALENDAR