BEGIN:VCALENDAR
VERSION:2.0
PRODID:-//Rod Mladi Bori Ajdovščina - ECPv6.7.1//NONSGML v1.0//EN
CALSCALE:GREGORIAN
METHOD:PUBLISH
X-ORIGINAL-URL:https://mladibori.si
X-WR-CALDESC:Dogodki za Rod Mladi Bori Ajdovščina
REFRESH-INTERVAL;VALUE=DURATION:PT1H
X-Robots-Tag:noindex
X-PUBLISHED-TTL:PT1H
BEGIN:VTIMEZONE
TZID:Europe/Ljubljana
BEGIN:DAYLIGHT
TZOFFSETFROM:+0100
TZOFFSETTO:+0200
TZNAME:CEST
DTSTART:20260329T010000
END:DAYLIGHT
BEGIN:STANDARD
TZOFFSETFROM:+0200
TZOFFSETTO:+0100
TZNAME:CET
DTSTART:20261025T010000
END:STANDARD
END:VTIMEZONE
BEGIN:VEVENT
DTSTART;TZID=Europe/Ljubljana:20260307T093000
DTEND;TZID=Europe/Ljubljana:20260307T150000
DTSTAMP:20260421T191905
CREATED:20260219T134105Z
LAST-MODIFIED:20260219T134340Z
UID:5692-1772875800-1772895600@mladibori.si
SUMMARY:MČ SPOOT 2026
DESCRIPTION:Pozdravljeni! \n\n\n\nNekje daleč med zvezdami živi Mali princ\, ki je na svojem majhnem planetu vsak dan skrbno negoval svojo posebno vrtnico. Pomenila mu je največ na svetu. Nekega dne pa jo je med potovanjem med planeti izgubil in brez nje se je počutil zelo osamljenega. Odločil se je\, da jo poišče\, a na poti ga čakajo nenavadni planeti in zahtevne naloge\, ki jih sam ne zmore. Zato potrebuje pomoč pogumnih tabornikov\, ki mu bodo s sodelovanjem\, pogumom in dobrim srcem pomagali najti pravo pot. \n\n\n\nSkupaj bomo pomagali Malemu princu najti vrtnico v soboto\, 7. 3. 2026. Zbor bo ob9.30 pri taborniških skladiščih v Ajdovščini (Rizzatijeva vila\, Goriška cesta 17\, Ajdovščina)\, program pa bo trajal predvidoma do 15.00 na istem mestu. Organizirano bo tudi kosilo. \n\n\n\nCena akcije: 10€Prijave potekajo do 27. 2. 2026\, preko obrazca spodaj.S seboj potrebujete: \n\n\n\n\ntaborniško rutico\n\n\n\nprimerno obutev in oblačila za igro in gibanje na prostem\n\n\n\nv primeru slabega vremena pelerino ali dežnik ter rezervna oblačila\n\n\n\nmenažko in pribor\n\n\n\nplastenko za pijačo\n\n\n\nmanjšo malico\n\n\n\nosebni dokument in zdravstveno izkaznico\n\n\n\n\nZa boljše razumevanje priporočamo\, da si preberete knjižno uspešnico Mali princ avtorja Antoine Marie Jean-Baptiste Rogerja ali si pogledate film po tej zgodbi. Za vse dodatne informacije ali morebitna vprašanja sem dosegljiva na telefonski številki: 030 761 556 (Ela Mermolja). \n\n\n\nTaborniški pozdrav!Rod Mladi bori
URL:https://mladibori.si/event/mc-spoot-2026/
ATTACH;FMTTYPE=image/jpeg:https://mladibori.si/wp-content/uploads/2026/02/stunning-red-rose-encased-in-a-glass-dome-set-against-a-dark-sandy-background-with-copy-space.-7181894-scaled.jpg
END:VEVENT
END:VCALENDAR