BEGIN:VCALENDAR
VERSION:2.0
PRODID:-//Rod Mladi Bori Ajdovščina - ECPv6.7.1//NONSGML v1.0//EN
CALSCALE:GREGORIAN
METHOD:PUBLISH
X-ORIGINAL-URL:https://mladibori.si
X-WR-CALDESC:Dogodki za Rod Mladi Bori Ajdovščina
REFRESH-INTERVAL;VALUE=DURATION:PT1H
X-Robots-Tag:noindex
X-PUBLISHED-TTL:PT1H
BEGIN:VTIMEZONE
TZID:Europe/Ljubljana
BEGIN:DAYLIGHT
TZOFFSETFROM:+0100
TZOFFSETTO:+0200
TZNAME:CEST
DTSTART:20230326T010000
END:DAYLIGHT
BEGIN:STANDARD
TZOFFSETFROM:+0200
TZOFFSETTO:+0100
TZNAME:CET
DTSTART:20231029T010000
END:STANDARD
END:VTIMEZONE
BEGIN:VEVENT
DTSTART;TZID=Europe/Ljubljana:20230617T100000
DTEND;TZID=Europe/Ljubljana:20230617T170000
DTSTAMP:20260423T222653
CREATED:20230602T213412Z
LAST-MODIFIED:20230602T214629Z
UID:4525-1686996000-1687021200@mladibori.si
SUMMARY:GG zaključni piknik
DESCRIPTION:Dragi GG-ji! \n\n\n\nTaborniško leto se počasi zaključuje\, zato je pred nami še zadnja enodnevna akcije tega leta. \n\n\n\nLetos smo za vas pripravili prav posebno presenečenje! \n\n\n\nLetošnji GG piknik se bo odvijal na Kovku pri naši taborniški koči Praprot. Zbor GG bo v soboto\, 17. 6. ob 10h na Kovku (zaradi organizacije prosim bodite točni). V Ajdovščino se bomo odpravili peš okrog 17 ure. \n\n\n\nObvezna oprema: manjši pohodni nahrbtnik\, pijača\, rutka\, zaščita proti soncu in primerna pohodniška obutev\, saj se bomo domov vrnili peš. Za hrano bo poskrbljeno. \n\n\n\nAkcija je brezplačna! \n\n\n\nPrijave se zbirajo do srede 14. 6. \n\n\n\nTaborniški pozdrav! \n\n\n\nGG vodniki
URL:https://mladibori.si/event/gg-zakljucni-piknik/
LOCATION:Taborniška koča Praprot\, Kovk\, Kovk 13\, Col\, Slovenija
CATEGORIES:Gacke,Gozdovniki in gozdovnice,Korenčki,Lewčki,Palačinke
ATTACH;FMTTYPE=image/jpeg:https://mladibori.si/wp-content/uploads/2023/06/7axxbzekde.jpg
END:VEVENT
END:VCALENDAR