BEGIN:VCALENDAR
VERSION:2.0
PRODID:-//Rod Mladi Bori Ajdovščina - ECPv6.7.1//NONSGML v1.0//EN
CALSCALE:GREGORIAN
METHOD:PUBLISH
X-ORIGINAL-URL:https://mladibori.si
X-WR-CALDESC:Dogodki za Rod Mladi Bori Ajdovščina
REFRESH-INTERVAL;VALUE=DURATION:PT1H
X-Robots-Tag:noindex
X-PUBLISHED-TTL:PT1H
BEGIN:VTIMEZONE
TZID:Europe/Ljubljana
BEGIN:DAYLIGHT
TZOFFSETFROM:+0100
TZOFFSETTO:+0200
TZNAME:CEST
DTSTART:20230326T010000
END:DAYLIGHT
BEGIN:STANDARD
TZOFFSETFROM:+0200
TZOFFSETTO:+0100
TZNAME:CET
DTSTART:20231029T010000
END:STANDARD
END:VTIMEZONE
BEGIN:VEVENT
DTSTART;TZID=Europe/Ljubljana:20231103T170000
DTEND;TZID=Europe/Ljubljana:20231105T100000
DTSTAMP:20260424T225225
CREATED:20231017T091438Z
LAST-MODIFIED:20231017T091757Z
UID:4822-1699030800-1699178400@mladibori.si
SUMMARY:MČ jesenovanje
DESCRIPTION:Dragi MČ-ji! \n\n\n\nHitro se nam bližajo krompirjeve počitnice in s tem tudi MČ-jesenovanje na Kovku. To bo potekalo od petka\, 3. 11. 2023 do nedelje\, 5. 11. 2023. \n\n\n\nStarši lahko svojega otroka na akcijo pripeljete v petek med 17:00 in 18:00. V nedeljo pa ga lahko pridete iskat med 9:00 in 10:00. \n\n\n\nOtroci naj s seboj prinesejo: \n\n\n\n\ntopla oblačila\n\n\n\nspalno vrečo\n\n\n\npohodne čevlje/ močnejše telovadne\n\n\n\ntoaleto (zobna ščetka\, zobna pasta\,…)\n\n\n\nlučko\n\n\n\ncopate za po koči\n\n\n\nrutko\n\n\n\nveliko dobre volje\n\n\n\n\nOpomba: Otroci naj imajo vse stvari podpisane\, saj se lahko v nasprotnem primeru hitro izgubijo. \n\n\n\nCena jesenovanja je 15€. V primeru\, da se otrok\, ki je na akcijo prijavljen\, le-te ne udeleži\, bo potrebno plačati celoten znesek jesenovanja. \n\n\n\nPrijave na jesenovanje so odprte do 1. 11. 2023. \n\n\n\nTaborniški pozdrav!
URL:https://mladibori.si/event/mc-jesenovanje/
LOCATION:Taborniška koča Praprot\, Kovk\, Kovk 13\, Col\, Slovenija
CATEGORIES:Medvedki in čebelice
ATTACH;FMTTYPE=image/jpeg:https://mladibori.si/wp-content/uploads/2023/10/jukqr-nhjzw.jpg
END:VEVENT
BEGIN:VEVENT
DTSTART;TZID=Europe/Ljubljana:20231117T180000
DTEND;TZID=Europe/Ljubljana:20231117T200000
DTSTAMP:20260424T225225
CREATED:20231108T171956Z
LAST-MODIFIED:20231108T231244Z
UID:4891-1700244000-1700251200@mladibori.si
SUMMARY:Članarina
DESCRIPTION:Sporočamo Vam\, da bo letošnje pobiranje članarine potekalo v petek\, 17.11. 2023\, med 18h in 20h uro v naših prostorih v Palah. Cena članarine znaša 50 evrov. V primeru\, da imate pri tabornikih več članov slednja znaša 40 evrov na posameznika.  \n\n\n\nPoleg članarine bomo v petek zbirali tudi soglasja o zbiranju osebnih podatkov. Soglasje lahko najdete tukaj. \n\n\n\nTaborniški pozdrav! \n\n\n\nRMB
URL:https://mladibori.si/event/clanarina/
CATEGORIES:Gozdovniki in gozdovnice,Medvedki in čebelice,Popotniki in popotnice,Raziskovalci in raziskovalke
ATTACH;FMTTYPE=image/jpeg:https://mladibori.si/wp-content/uploads/2023/11/zyx1bk9mqma.jpg
END:VEVENT
BEGIN:VEVENT
DTSTART;TZID=Europe/Ljubljana:20231125T071500
DTEND;TZID=Europe/Ljubljana:20231126T120000
DTSTAMP:20260424T225225
CREATED:20231108T231840Z
LAST-MODIFIED:20231110T090130Z
UID:4899-1700896500-1701000000@mladibori.si
SUMMARY:GG SPOOT srečanje
DESCRIPTION:Dragi GG-ji! \n\n\n\nTolminski taborniki nas vabijo\, da se jim pridružimo na GG SPOOT srečanju v Tolminu 25. novembra. Zbrali se bomo ob 7.15h zjutraj na avtobusni postaji Ajdovščina. Prava pustolovščina pa se bo začela po nastopu noči\, ko boste z ostalimi GG-ji\, raziskovali Tolmin ob svetlobi bakel in opravljali naloge\, ki bodo preizkušale vaš pogum in domišljijo. \n\n\n\nNa avtobusno postajo v Ajdovščini se bomo vrnili v nedeljo\, 26. 11. ob 12:00. \n\n\n\nProsimo\, da s seboj prinesete naslednje stvari:  \n\n\n\n\nSpalno vrečo in armafleks \n\n\n\nMenažko in pribor \n\n\n\nUstrezene čevelje za daljši pohod \n\n\n\nTopla oblačila za primer slabega vremena\n\n\n\nPelerino ali dežnik \n\n\n\nCopate \n\n\n\nPlastenko za pijačo \n\n\n\nTaborniško rutko \n\n\n\nSvetilko \n\n\n\nObilo dobre volje\n\n\n\n\nPrijave zbiramo do 21. 11. 2023. \n\n\n\nCena akcije znaša 10€. V primeru\, da se otrok\, ki je na akcijo prijavljen\, le-te ne udeleži\, bo potrebno plačati celoten znesek akcije. \n\n\n\nTaborniški pozdrav!  \n\n\n\nRMB
URL:https://mladibori.si/event/gg-spoot-srecanje-2/
CATEGORIES:Gozdovniki in gozdovnice
ATTACH;FMTTYPE=image/jpeg:https://mladibori.si/wp-content/uploads/2023/11/fvi7rnyjpb0.jpg
END:VEVENT
END:VCALENDAR