BEGIN:VCALENDAR
VERSION:2.0
PRODID:-//Rod Mladi Bori Ajdovščina - ECPv6.7.1//NONSGML v1.0//EN
CALSCALE:GREGORIAN
METHOD:PUBLISH
X-ORIGINAL-URL:https://mladibori.si
X-WR-CALDESC:Dogodki za Rod Mladi Bori Ajdovščina
REFRESH-INTERVAL;VALUE=DURATION:PT1H
X-Robots-Tag:noindex
X-PUBLISHED-TTL:PT1H
BEGIN:VTIMEZONE
TZID:Europe/Ljubljana
BEGIN:DAYLIGHT
TZOFFSETFROM:+0100
TZOFFSETTO:+0200
TZNAME:CEST
DTSTART:20240331T010000
END:DAYLIGHT
BEGIN:STANDARD
TZOFFSETFROM:+0200
TZOFFSETTO:+0100
TZNAME:CET
DTSTART:20241027T010000
END:STANDARD
END:VTIMEZONE
BEGIN:VEVENT
DTSTART;TZID=Europe/Ljubljana:20240622T091500
DTEND;TZID=Europe/Ljubljana:20240622T140000
DTSTAMP:20260424T124311
CREATED:20240524T201034Z
LAST-MODIFIED:20240524T201038Z
UID:5149-1719047700-1719064800@mladibori.si
SUMMARY:MČ zaključni izlet v prečudoviti svet kraških jezer
DESCRIPTION:Ker nam je v mesecu oktobru vreme malce »ponagajalo«\, je tradicionalni rodov izlet odpadel. Zato smo se RMB-jevci odločili\, da letos zaključimo taborniško leto z edinstvenim rodovim izletom v svet kraških jezer. \n\n\n\nZ našimi najmlajšimi se bomo v soboto\, 22. 6. 2024 odpravili v Ekomuzej Pivških presihajočih jezer\, kjer si bomo ogledali tamkajšnji muzej ter se sprehodili po prečudoviti pokrajini vse do Petelinjskega jezera. Gre za edinstveno izkušnjo naravnega fenomena\, ki ga ni nikjer drugje po svetu. \n\n\n\nOdhod bo v soboto ob 9.15 h izpred avtobusne postaje v Ajdovščini (bodite točni). Na isto mesto se bomo predvideno vrnili med 14h in 14.30h. \n\n\n\nNa Pivškem se bomo zadržali več ur\, zato imejte s seboj malico ter primerna oblačila in obutev. \n\n\n\nCena akcije znaša 15€ denar prinesite s seboj na avtobusno postajo. \n\n\n\nPrijave na rodov zaključni izlet bodo odprte do 2. 6. 2024.
URL:https://mladibori.si/event/mc-zakljucni-izlet-v-precudoviti-svet-kraskih-jezer/
CATEGORIES:Medvedki in čebelice
ATTACH;FMTTYPE=image/jpeg:https://mladibori.si/wp-content/uploads/2024/05/hrmayke-v8g.jpg
END:VEVENT
END:VCALENDAR