BEGIN:VCALENDAR
VERSION:2.0
PRODID:-//Rod Mladi Bori Ajdovščina - ECPv6.7.1//NONSGML v1.0//EN
CALSCALE:GREGORIAN
METHOD:PUBLISH
X-ORIGINAL-URL:https://mladibori.si
X-WR-CALDESC:Dogodki za Rod Mladi Bori Ajdovščina
REFRESH-INTERVAL;VALUE=DURATION:PT1H
X-Robots-Tag:noindex
X-PUBLISHED-TTL:PT1H
BEGIN:VTIMEZONE
TZID:Europe/Ljubljana
BEGIN:DAYLIGHT
TZOFFSETFROM:+0100
TZOFFSETTO:+0200
TZNAME:CEST
DTSTART:20240331T010000
END:DAYLIGHT
BEGIN:STANDARD
TZOFFSETFROM:+0200
TZOFFSETTO:+0100
TZNAME:CET
DTSTART:20241027T010000
END:STANDARD
END:VTIMEZONE
BEGIN:VEVENT
DTSTART;TZID=Europe/Ljubljana:20241221T160000
DTEND;TZID=Europe/Ljubljana:20241221T180000
DTSTAMP:20260422T051814
CREATED:20241204T155345Z
LAST-MODIFIED:20241204T161818Z
UID:5330-1734796800-1734804000@mladibori.si
SUMMARY:MČ Teta Zima
DESCRIPTION:Prihajajo praznični časi in z njimi tudi naša ljubljena gospa\, Teta Zima. Ta bo s svojimi sanmi v Ajdovščino pristala v soboto\, 21. 12. 2024 ob 16h. Pričakala nas bo v večnamenskem prostoru v Palah. Od nas se bo poslovila dve uri kasneje\, torej ob 18h. \n\n\n\nOtroci naj imajo s seboj svoje darilo v vrednosti 5€\, ki je primerno za pridne dečke in deklice.  \n\n\n\nNaprošam vas\, da svoje pridne otroke prijavite na akcijo do nedelje\, 15. 12. 2024 preko spletne strani. \n\n\n\nTaborniški pozdrav!
URL:https://mladibori.si/event/mc-teta-zima/
CATEGORIES:Medvedki in čebelice
ATTACH;FMTTYPE=image/jpeg:https://mladibori.si/wp-content/uploads/2024/12/minimalist-christmas-gift-boxes-adorned-with-natural-elements-like-pine-branches-and-twine-perfect-for-holiday-inspiration.-744969-scaled.jpg
END:VEVENT
BEGIN:VEVENT
DTSTART;TZID=Europe/Ljubljana:20241221T190000
DTEND;TZID=Europe/Ljubljana:20241221T210000
DTSTAMP:20260422T051814
CREATED:20241204T163100Z
LAST-MODIFIED:20241204T163612Z
UID:5336-1734807600-1734814800@mladibori.si
SUMMARY:GG Teta Zima
DESCRIPTION:Dragi gozdovniki in gozdovnice\,ste pripravljeni na praznično vzdušje\, zabavo in presenečenje? \n\n\n\nVabimo vas\, da se nam pridružite na čarobni akciji Teta Zima\, ki bo potekala 21. decembra 2024 od 19h do 21h v Mladinskem centru Ajdovščina – Pale.Da bo dogodek še bolj poseben\, vsi prinesite darilo v vrednosti 5 evrov\, ki ga boste kasneje zamenjali zdrugim.Prijave so odprte do nedelje\, 15. 12. 2024. \n\n\n\nNe pozabite na svojo energijo\, nasmehe in pripravljenost na zimske norčije! Se vidimo 21. decembra!Vodstvo RMB
URL:https://mladibori.si/event/gg-teta-zima/
ATTACH;FMTTYPE=image/jpeg:https://mladibori.si/wp-content/uploads/2024/12/a-red-toy-car-carries-a-christmas-tree-set-against-a-warm-bokeh-background-celebrating-the-festive-season.-3444345-scaled.jpg
END:VEVENT
END:VCALENDAR